BEGIN:VCALENDAR
VERSION:2.0
PRODID:-//Healthy Gulf - ECPv6.15.20//NONSGML v1.0//EN
CALSCALE:GREGORIAN
METHOD:PUBLISH
X-ORIGINAL-URL:https://healthygulf.org
X-WR-CALDESC:Events for Healthy Gulf
REFRESH-INTERVAL;VALUE=DURATION:PT1H
X-Robots-Tag:noindex
X-PUBLISHED-TTL:PT1H
BEGIN:VTIMEZONE
TZID:America/Chicago
BEGIN:DAYLIGHT
TZOFFSETFROM:-0600
TZOFFSETTO:-0500
TZNAME:CDT
DTSTART:20210314T080000
END:DAYLIGHT
BEGIN:STANDARD
TZOFFSETFROM:-0500
TZOFFSETTO:-0600
TZNAME:CST
DTSTART:20211107T070000
END:STANDARD
BEGIN:DAYLIGHT
TZOFFSETFROM:-0600
TZOFFSETTO:-0500
TZNAME:CDT
DTSTART:20220313T080000
END:DAYLIGHT
BEGIN:STANDARD
TZOFFSETFROM:-0500
TZOFFSETTO:-0600
TZNAME:CST
DTSTART:20221106T070000
END:STANDARD
BEGIN:DAYLIGHT
TZOFFSETFROM:-0600
TZOFFSETTO:-0500
TZNAME:CDT
DTSTART:20230312T080000
END:DAYLIGHT
BEGIN:STANDARD
TZOFFSETFROM:-0500
TZOFFSETTO:-0600
TZNAME:CST
DTSTART:20231105T070000
END:STANDARD
END:VTIMEZONE
BEGIN:VEVENT
DTSTART;TZID=America/Chicago:20220204T090000
DTEND;TZID=America/Chicago:20220204T150000
DTSTAMP:20260423T142803
CREATED:20220106T184559Z
LAST-MODIFIED:20220106T184559Z
UID:20258-1643965200-1643986800@healthygulf.org
SUMMARY:Louisiana Just Recovery - Helping Communities After Ida
DESCRIPTION:We need volunteers to muck and gut homes damaged by Hurricane Ida in St. James\, St. John the Baptist and Plaquemines Parish. No experience necessary\, tools and training will be provided. Volunteers will need transportation to work sites. This work involves moderate physical activity and is suitable for volunteers over the age of 15. Volunteers under 18 will need parental consent.
URL:https://healthygulf.org/event/louisiana-just-recovery-helping-communities-after-ida-7/
LOCATION:Meet at First Unitarian Universalist Church\, 2940 Soniat Ave\, New Orleans\, LA\, 70115\, United States
ATTACH;FMTTYPE=image/jpeg:https://healthygulf.org/wp-content/uploads/2022/01/unnamed.jpg
ORGANIZER;CN="Michael Esealuka":MAILTO:michaelesealuka AT healthygulf DOT org
END:VEVENT
BEGIN:VEVENT
DTSTART;TZID=America/Chicago:20220205T090000
DTEND;TZID=America/Chicago:20220205T150000
DTSTAMP:20260423T142803
CREATED:20220106T184731Z
LAST-MODIFIED:20220106T184731Z
UID:20261-1644051600-1644073200@healthygulf.org
SUMMARY:Louisiana Just Recovery - Helping Communities After Ida
DESCRIPTION:We need volunteers to muck and gut homes damaged by Hurricane Ida in St. James\, St. John the Baptist and Plaquemines Parish. No experience necessary\, tools and training will be provided. Volunteers will need transportation to work sites. This work involves moderate physical activity and is suitable for volunteers over the age of 15. Volunteers under 18 will need parental consent.
URL:https://healthygulf.org/event/louisiana-just-recovery-helping-communities-after-ida-8/
LOCATION:Meet at First Unitarian Universalist Church\, 2940 Soniat Ave\, New Orleans\, LA\, 70115\, United States
ATTACH;FMTTYPE=image/jpeg:https://healthygulf.org/wp-content/uploads/2022/01/unnamed.jpg
ORGANIZER;CN="Michael Esealuka":MAILTO:michaelesealuka AT healthygulf DOT org
END:VEVENT
BEGIN:VEVENT
DTSTART;TZID=America/Chicago:20220211T090000
DTEND;TZID=America/Chicago:20220211T150000
DTSTAMP:20260423T142803
CREATED:20220106T184853Z
LAST-MODIFIED:20220106T184853Z
UID:20264-1644570000-1644591600@healthygulf.org
SUMMARY:Louisiana Just Recovery - Helping Communities After Ida
DESCRIPTION:We need volunteers to muck and gut homes damaged by Hurricane Ida in St. James\, St. John the Baptist and Plaquemines Parish. No experience necessary\, tools and training will be provided. Volunteers will need transportation to work sites. This work involves moderate physical activity and is suitable for volunteers over the age of 15. Volunteers under 18 will need parental consent.
URL:https://healthygulf.org/event/louisiana-just-recovery-helping-communities-after-ida-9/
LOCATION:LA
ATTACH;FMTTYPE=image/jpeg:https://healthygulf.org/wp-content/uploads/2022/01/unnamed.jpg
END:VEVENT
BEGIN:VEVENT
DTSTART;TZID=America/Chicago:20220212T090000
DTEND;TZID=America/Chicago:20220212T150000
DTSTAMP:20260423T142803
CREATED:20220106T185006Z
LAST-MODIFIED:20220106T185006Z
UID:20267-1644656400-1644678000@healthygulf.org
SUMMARY:Louisiana Just Recovery - Helping Communities After Ida
DESCRIPTION:We need volunteers to muck and gut homes damaged by Hurricane Ida in St. James\, St. John the Baptist and Plaquemines Parish. No experience necessary\, tools and training will be provided. Volunteers will need transportation to work sites. This work involves moderate physical activity and is suitable for volunteers over the age of 15. Volunteers under 18 will need parental consent.
URL:https://healthygulf.org/event/louisiana-just-recovery-helping-communities-after-ida-10/
LOCATION:Meet at First Unitarian Universalist Church\, 2940 Soniat Ave\, New Orleans\, LA\, 70115\, United States
ATTACH;FMTTYPE=image/jpeg:https://healthygulf.org/wp-content/uploads/2022/01/unnamed.jpg
ORGANIZER;CN="Michael Esealuka":MAILTO:michaelesealuka AT healthygulf DOT org
END:VEVENT
END:VCALENDAR